BEGIN:VCALENDAR
VERSION:2.0
PRODID:icalendar-ruby
CALSCALE:GREGORIAN
METHOD:PUBLISH
BEGIN:VTIMEZONE
TZID:Australia/Melbourne
BEGIN:DAYLIGHT
DTSTART:20201004T030000
TZOFFSETFROM:+1000
TZOFFSETTO:+1100
RRULE:FREQ=YEARLY;BYDAY=1SU;BYMONTH=10
TZNAME:AEDT
END:DAYLIGHT
BEGIN:STANDARD
DTSTART:20210404T020000
TZOFFSETFROM:+1100
TZOFFSETTO:+1000
RRULE:FREQ=YEARLY;BYDAY=1SU;BYMONTH=4
TZNAME:AEST
END:STANDARD
END:VTIMEZONE
BEGIN:VEVENT
DTSTAMP:20210226T032700Z
UID:inspection_926379
DTSTART;TZID=Australia/Melbourne:20210327T103000
DTEND;TZID=Australia/Melbourne:20210327T110000
CLASS:PUBLIC
CREATED:20210216T111013
DESCRIPTION: 
LAST-MODIFIED:20210216T111013
LOCATION:8 / 1 Blackwall Point Road\, ABBOTSFORD NSW 2046\, Australia
SUMMARY:8 / 1 Blackwall Point Road\,  Inspection
URL:http://www.abbotsfordcove.com.au/
END:VEVENT
END:VCALENDAR
